BEGIN:VCALENDAR
VERSION:2.0
PRODID:-//DP Pro Event Calendar//3.0.5//EN
BEGIN:VEVENT
UID:9beab1bc-0af7-4d77-93f1-1031c9656a80
DTSTART;TZID=America/Chicago:20260706T180000
DTEND;TZID=America/Chicago:20260706T200000
DTSTAMP:20260114T161527Z
SUMMARY:OHC Summer IP
DESCRIPTION:
LOCATION:
URL:
END:VEVENT
END:VCALENDAR