BEGIN:VCALENDAR
VERSION:2.0
PRODID:-//DP Pro Event Calendar//3.0.5//EN
BEGIN:VEVENT
UID:9947aa87-65ce-4610-a4a5-c9da4ab3a5c9
DTSTART;TZID=America/Chicago:20260509T143000
DTEND;TZID=America/Chicago:20260509T191500
DTSTAMP:20260302T162040Z
SUMMARY:Menace Mania 2026
DESCRIPTION:
LOCATION:
URL:
END:VEVENT
END:VCALENDAR