BEGIN:VCALENDAR
VERSION:2.0
PRODID:-//DP Pro Event Calendar//3.0.5//EN
BEGIN:VEVENT
UID:932c4384-8df5-4ba7-a695-7063f392dd93
DTSTART;TZID=America/Chicago:20260509T101500
DTEND;TZID=America/Chicago:20260509T123000
DTSTAMP:20260302T161946Z
SUMMARY:Menace Mania 2026
DESCRIPTION:
LOCATION:
URL:
END:VEVENT
END:VCALENDAR