BEGIN:VCALENDAR
VERSION:2.0
PRODID:-//DP Pro Event Calendar//3.0.5//EN
BEGIN:VEVENT
UID:0c3e46a0-ea32-4351-aab5-cf45d74d4193
DTSTART;TZID=America/Chicago:20260502T124500
DTEND;TZID=America/Chicago:20260502T141500
DTSTAMP:20260423T155023Z
SUMMARY:Brooks Johnson Birthday
DESCRIPTION:Basic Party\r \n Party Room 215-315
LOCATION:
URL:
END:VEVENT
END:VCALENDAR