BEGIN:VCALENDAR
VERSION:2.0
PRODID:-//DP Pro Event Calendar//3.0.5//EN
BEGIN:VEVENT
UID:d40afa71-be20-46e2-a8f9-4a546a5ec71e
DTSTART;TZID=America/Chicago:20260427T180000
DTEND;TZID=America/Chicago:20260427T200000
DTSTAMP:20260114T161341Z
SUMMARY:OHC Spring IP
DESCRIPTION:
LOCATION:
URL:
END:VEVENT
END:VCALENDAR