BEGIN:VCALENDAR
VERSION:2.0
PRODID:-//DP Pro Event Calendar//3.0.5//EN
BEGIN:VEVENT
UID:17db6b4a-9d08-489e-8320-aa9f97ba0df7
DTSTART;TZID=America/Chicago:20260424T151500
DTEND;TZID=America/Chicago:20260424T164500
DTSTAMP:20260424T082310Z
SUMMARY:Stick & Puck - 4/24/26 - Special Time 3:15pm
DESCRIPTION:
LOCATION:
URL:
END:VEVENT
END:VCALENDAR