BEGIN:VCALENDAR
VERSION:2.0
PRODID:-//DP Pro Event Calendar//3.0.5//EN
BEGIN:VEVENT
UID:c5b9b719-25c0-4f41-a532-11e5a96e8a0d
DTSTART;TZID=America/Chicago:20260422T174500
DTEND;TZID=America/Chicago:20260422T183000
DTSTAMP:20160901T135401Z
SUMMARY:Freestyle
DESCRIPTION:
LOCATION:
URL:
END:VEVENT
END:VCALENDAR