BEGIN:VCALENDAR
VERSION:2.0
PRODID:-//DP Pro Event Calendar//3.0.5//EN
BEGIN:VEVENT
UID:bdf5baea-c89c-4efd-beda-7fb6d648a56b
DTSTART;TZID=America/Chicago:20260329T140000
DTEND;TZID=America/Chicago:20260329T153000
DTSTAMP:20260304T145716Z
SUMMARY:Eden Furhrman Birthday
DESCRIPTION:Basic Party\r \n Party Room - LR4 1-2p
LOCATION:
URL:
END:VEVENT
END:VCALENDAR