BEGIN:VCALENDAR
VERSION:2.0
PRODID:-//DP Pro Event Calendar//3.0.5//EN
BEGIN:VEVENT
UID:92dd449f-ffa6-4e2e-86de-3dd3a978371d
DTSTART;TZID=America/Chicago:20260329T140000
DTEND;TZID=America/Chicago:20260329T153000
DTSTAMP:20260302T133315Z
SUMMARY:Conor Stinson Birthday
DESCRIPTION:Basic Party\r \n Party Room 3:30-4:30
LOCATION:
URL:
END:VEVENT
END:VCALENDAR