BEGIN:VCALENDAR
VERSION:2.0
PRODID:-//DP Pro Event Calendar//3.0.5//EN
BEGIN:VEVENT
UID:718ca0eb-4505-47e0-852d-7c2c98ecef96
DTSTART;TZID=America/Chicago:20260327T180000
DTEND;TZID=America/Chicago:20260327T193000
DTSTAMP:20260302T133435Z
SUMMARY:Owen Sand Birthday
DESCRIPTION:Basic Party\r \n Party Room 7-8:30
LOCATION:
URL:
END:VEVENT
END:VCALENDAR