BEGIN:VCALENDAR
VERSION:2.0
PRODID:-//DP Pro Event Calendar//3.0.5//EN
BEGIN:VEVENT
UID:df6f0e4f-4cbb-4cd2-ad0c-6e945b11e00e
DTSTART;TZID=America/Chicago:20260327T143000
DTEND;TZID=America/Chicago:20260327T153000
DTSTAMP:20260302T132432Z
SUMMARY:Olsson Broomball Outing
DESCRIPTION:20 - cross ice
LOCATION:
URL:
END:VEVENT
END:VCALENDAR