BEGIN:VCALENDAR
VERSION:2.0
PRODID:-//DP Pro Event Calendar//3.0.5//EN
BEGIN:VEVENT
UID:acdebac4-b5cc-4bcb-9ada-763af84f1533
DTSTART;TZID=America/Chicago:20260326T180000
DTEND;TZID=America/Chicago:20260326T200000
DTSTAMP:20260119T104727Z
SUMMARY:Zeta Skating Event UNO
DESCRIPTION:$825
LOCATION:
URL:
END:VEVENT
END:VCALENDAR