BEGIN:VCALENDAR
VERSION:2.0
PRODID:-//DP Pro Event Calendar//3.0.5//EN
BEGIN:VEVENT
UID:a7bf00ce-311c-475f-867f-a59802b37668
DTSTART;TZID=America/Chicago:20260324T201500
DTEND;TZID=America/Chicago:20260324T211500
DTSTAMP:20260302T194016Z
SUMMARY:Picinni Hockey
DESCRIPTION:
LOCATION:
URL:
END:VEVENT
END:VCALENDAR