BEGIN:VCALENDAR
VERSION:2.0
PRODID:-//DP Pro Event Calendar//3.0.5//EN
BEGIN:VEVENT
UID:50c3989b-0b9b-4b33-a4ba-06570b9338db
DTSTART;TZID=America/Chicago:20260319T180000
DTEND;TZID=America/Chicago:20260319T200000
DTSTAMP:20260116T152451Z
SUMMARY:Creighton Graduate Student Government Outing
DESCRIPTION:
LOCATION:
URL:
END:VEVENT
END:VCALENDAR