BEGIN:VCALENDAR
VERSION:2.0
PRODID:-//DP Pro Event Calendar//3.0.5//EN
BEGIN:VEVENT
UID:d83012f0-8f59-4452-ac67-fdafc03e98ec
DTSTART;TZID=America/Chicago:20260307T080000
DTEND;TZID=America/Chicago:20260307T090000
DTSTAMP:20260301T085118Z
SUMMARY:Wayman - Ice Skating
DESCRIPTION:
LOCATION:
URL:
END:VEVENT
END:VCALENDAR