BEGIN:VCALENDAR
VERSION:2.0
PRODID:-//DP Pro Event Calendar//3.0.5//EN
BEGIN:VEVENT
UID:0481ef2d-f2ee-4078-bce3-9395622e3859
DTSTART;TZID=America/Chicago:20260228T210000
DTEND;TZID=America/Chicago:20260228T220000
DTSTAMP:20260114T151613Z
SUMMARY:Phi Delt v. Sig EP Hockey Game
DESCRIPTION:
LOCATION:
URL:
END:VEVENT
END:VCALENDAR