BEGIN:VCALENDAR
VERSION:2.0
PRODID:-//DP Pro Event Calendar//3.0.5//EN
BEGIN:VEVENT
UID:700c9539-0a7b-43f5-aba3-65c28cb1a735
DTSTART;TZID=America/Chicago:20260222T180000
DTEND;TZID=America/Chicago:20260222T190000
DTSTAMP:20260116T160339Z
SUMMARY:Omaha Broomball - ADD on
DESCRIPTION:
LOCATION:
URL:
END:VEVENT
END:VCALENDAR