BEGIN:VCALENDAR
VERSION:2.0
PRODID:-//DP Pro Event Calendar//3.0.5//EN
BEGIN:VEVENT
UID:47b092d3-0875-4d0b-bb37-d7cc9f7f56c0
DTSTART;TZID=America/Chicago:20260220T194500
DTEND;TZID=America/Chicago:20260220T220000
DTSTAMP:20260114T171442Z
SUMMARY:Blondes v Brunettes Charity Games
DESCRIPTION:
LOCATION:
URL:
END:VEVENT
END:VCALENDAR