BEGIN:VCALENDAR
VERSION:2.0
PRODID:-//DP Pro Event Calendar//3.0.5//EN
BEGIN:VEVENT
UID:0824c23a-b7b4-4908-9226-542ad0d51d49
DTSTART;TZID=America/Chicago:20260215T180000
DTEND;TZID=America/Chicago:20260215T190000
DTSTAMP:20260116T160250Z
SUMMARY:Wesley Ehlers VIP Party
DESCRIPTION:Party Room 5-6p\r \n 6-7pm Ice - Hockey Nets
LOCATION:
URL:
END:VEVENT
END:VCALENDAR