BEGIN:VCALENDAR
VERSION:2.0
PRODID:-//DP Pro Event Calendar//3.0.5//EN
BEGIN:VEVENT
UID:8ec32774-ceca-4607-b764-0a7bc97950f3
DTSTART;TZID=America/Chicago:20260207T170000
DTEND;TZID=America/Chicago:20260207T180000
DTSTAMP:20251126T162856Z
SUMMARY:Stella Rose VIP Birthday
DESCRIPTION:Skate 5-6p\r \n Party Room 4-7p
LOCATION:
URL:
END:VEVENT
END:VCALENDAR