BEGIN:VCALENDAR
VERSION:2.0
PRODID:-//DP Pro Event Calendar//3.0.5//EN
BEGIN:VEVENT
UID:6d7d93ef-9dfa-47f1-bb1c-347dd19429eb
DTSTART;TZID=America/Chicago:20260201T140000
DTEND;TZID=America/Chicago:20260201T153000
DTSTAMP:20251229T155322Z
SUMMARY:Olivia Halonen Birthday
DESCRIPTION:Standard Party\r \n Party Room 1-2pm
LOCATION:
URL:
END:VEVENT
END:VCALENDAR