BEGIN:VCALENDAR
VERSION:2.0
PRODID:-//DP Pro Event Calendar//3.0.5//EN
BEGIN:VEVENT
UID:2ce2d8ad-1a8a-4730-92e6-570141375d0b
DTSTART;TZID=America/Chicago:20260131T124500
DTEND;TZID=America/Chicago:20260131T141500
DTSTAMP:20260112T134354Z
SUMMARY:Lincoln Thompson Birthday
DESCRIPTION:Basic Party\r \n Party Room 2:15-3:15
LOCATION:
URL:
END:VEVENT
END:VCALENDAR