BEGIN:VCALENDAR
VERSION:2.0
PRODID:-//DP Pro Event Calendar//3.0.5//EN
BEGIN:VEVENT
UID:a02af4c7-7a04-457e-8dbc-98cf20570813
DTSTART;TZID=America/Chicago:20260130T180000
DTEND;TZID=America/Chicago:20260130T193000
DTSTAMP:20260113T142716Z
SUMMARY:Lydia Hays Birthday
DESCRIPTION:Classic Party\r \n Party Room 5:30-6:30
LOCATION:
URL:
END:VEVENT
END:VCALENDAR