BEGIN:VCALENDAR
VERSION:2.0
PRODID:-//DP Pro Event Calendar//3.0.5//EN
BEGIN:VEVENT
UID:e3d3df36-f445-4e84-942a-3dd0627474a8
DTSTART;TZID=America/Chicago:20260125T140000
DTEND;TZID=America/Chicago:20260125T153000
DTSTAMP:20260106T163437Z
SUMMARY:Elana Silva Birthday
DESCRIPTION:Standard Party\r \n Party Room LR4 - 3:30-4:30p
LOCATION:
URL:
END:VEVENT
END:VCALENDAR