BEGIN:VCALENDAR
VERSION:2.0
PRODID:-//DP Pro Event Calendar//3.0.5//EN
BEGIN:VEVENT
UID:c7958c9d-546b-4070-8f3d-493506cc00bd
DTSTART;TZID=America/Chicago:20260125T140000
DTEND;TZID=America/Chicago:20260125T153000
DTSTAMP:20260105T151531Z
SUMMARY:Taylor Givens Birthday
DESCRIPTION:Party Room 1-2\r \n Basic Party
LOCATION:
URL:
END:VEVENT
END:VCALENDAR