BEGIN:VCALENDAR
VERSION:2.0
PRODID:-//DP Pro Event Calendar//3.0.5//EN
BEGIN:VEVENT
UID:17a23381-69b3-4056-9cda-fbc902ca419a
DTSTART;TZID=America/Chicago:20260124T124500
DTEND;TZID=America/Chicago:20260124T141500
DTSTAMP:20260109T153626Z
SUMMARY:Delaney Sievers Birthday
DESCRIPTION:Basic Party\r \n Party Room 2:15-3:15p
LOCATION:
URL:
END:VEVENT
END:VCALENDAR