BEGIN:VCALENDAR
VERSION:2.0
PRODID:-//DP Pro Event Calendar//3.0.5//EN
BEGIN:VEVENT
UID:fcb3963c-ccad-4f24-9739-d68b58711815
DTSTART;TZID=America/Chicago:20260123T194500
DTEND;TZID=America/Chicago:20260123T204500
DTSTAMP:20260112T154839Z
SUMMARY:Private Hockey - Event
DESCRIPTION:
LOCATION:
URL:
END:VEVENT
END:VCALENDAR