BEGIN:VCALENDAR
VERSION:2.0
PRODID:-//DP Pro Event Calendar//3.0.5//EN
BEGIN:VEVENT
UID:1ff10389-9f67-448c-bece-2eb917e5378a
DTSTART;TZID=America/Chicago:20260123T180000
DTEND;TZID=America/Chicago:20260123T193000
DTSTAMP:20260102T122846Z
SUMMARY:Millie Bostwick Birthday
DESCRIPTION:Standard Party\r \n Party Room 6-8:30
LOCATION:
URL:
END:VEVENT
END:VCALENDAR