BEGIN:VCALENDAR
VERSION:2.0
PRODID:-//DP Pro Event Calendar//3.0.5//EN
BEGIN:VEVENT
UID:049a91c8-3a2e-41d7-8bb3-1668fcc0bc8a
DTSTART;TZID=America/Chicago:20260119T093000
DTEND;TZID=America/Chicago:20260119T110000
DTSTAMP:20260112T151211Z
SUMMARY:Stick & Puck - January 19th 2026
DESCRIPTION:
LOCATION:
URL:
END:VEVENT
END:VCALENDAR