BEGIN:VCALENDAR
VERSION:2.0
PRODID:-//DP Pro Event Calendar//3.0.5//EN
BEGIN:VEVENT
UID:a7a9dceb-99d2-4f99-b30f-dca17506e474
DTSTART;TZID=America/Chicago:20260114T130000
DTEND;TZID=America/Chicago:20260114T153000
DTSTAMP:20251118T115217Z
SUMMARY:Olivia Bauer Group Outing
DESCRIPTION:Homeschool group 15-20
LOCATION:
URL:
END:VEVENT
END:VCALENDAR