BEGIN:VCALENDAR
VERSION:2.0
PRODID:-//DP Pro Event Calendar//3.0.5//EN
BEGIN:VEVENT
UID:19313356-19cc-4725-a009-dd3bbfc04455
DTSTART;TZID=America/Chicago:20260110T124500
DTEND;TZID=America/Chicago:20260110T141500
DTSTAMP:20251106T064445Z
SUMMARY:Isla Gray Birthday
DESCRIPTION:Basic Party\r \n Party Room 11:30-1:15p
LOCATION:
URL:
END:VEVENT
END:VCALENDAR