BEGIN:VCALENDAR
VERSION:2.0
PRODID:-//DP Pro Event Calendar//3.0.5//EN
BEGIN:VEVENT
UID:e0066e23-290c-4433-af59-ade7e06305ff
DTSTART;TZID=America/Chicago:20260104T140000
DTEND;TZID=America/Chicago:20260104T153000
DTSTAMP:20251229T155202Z
SUMMARY:Charlie Bargenquast Birthday
DESCRIPTION:Basic Party\r \n Party Room 1-2p
LOCATION:
URL:
END:VEVENT
END:VCALENDAR