BEGIN:VCALENDAR
VERSION:2.0
PRODID:-//DP Pro Event Calendar//3.0.5//EN
BEGIN:VEVENT
UID:26b6f113-ea50-4d4b-816f-155e47311811
DTSTART;TZID=America/Chicago:20260103T124500
DTEND;TZID=America/Chicago:20260103T141500
DTSTAMP:20251226T142701Z
SUMMARY:June Wilson Birthday
DESCRIPTION:Basic Party\r \n Party Room 2:15-3:15p
LOCATION:
URL:
END:VEVENT
END:VCALENDAR