BEGIN:VCALENDAR
VERSION:2.0
PRODID:-//DP Pro Event Calendar//3.0.5//EN
BEGIN:VEVENT
UID:1c01195f-2a02-40b7-ba99-6364635d1bea
DTSTART;TZID=America/Chicago:20251230T191500
DTEND;TZID=America/Chicago:20251230T211500
DTSTAMP:20251203T114721Z
SUMMARY:Mary Immaculate Church 2025 Holiday Skating
DESCRIPTION:
LOCATION:
URL:
END:VEVENT
END:VCALENDAR