BEGIN:VCALENDAR
VERSION:2.0
PRODID:-//DP Pro Event Calendar//3.0.5//EN
BEGIN:VEVENT
UID:030644be-142a-4d1e-ae4e-b6e8e4535818
DTSTART;TZID=America/Chicago:20251228T191500
DTEND;TZID=America/Chicago:20251228T210000
DTSTAMP:20251201T161637Z
SUMMARY:Public Skating - Holiday 2025
DESCRIPTION:
LOCATION:
URL:
END:VEVENT
END:VCALENDAR