BEGIN:VCALENDAR
VERSION:2.0
PRODID:-//DP Pro Event Calendar//3.0.5//EN
BEGIN:VEVENT
UID:35eb037e-22ec-41b3-b5f9-11305a3107b9
DTSTART;TZID=America/Chicago:20251228T180000
DTEND;TZID=America/Chicago:20251228T190000
DTSTAMP:20251203T115440Z
SUMMARY:Camila Neri VIP Birthday
DESCRIPTION:Skate 6-7\, Party Room 5-7:30p
LOCATION:
URL:
END:VEVENT
END:VCALENDAR