BEGIN:VCALENDAR
VERSION:2.0
PRODID:-//DP Pro Event Calendar//3.0.5//EN
BEGIN:VEVENT
UID:1ee179ed-87e6-4d53-a0e4-a708c580afa2
DTSTART;TZID=America/Chicago:20251228T161500
DTEND;TZID=America/Chicago:20251228T174500
DTSTAMP:20251201T161731Z
SUMMARY:Stick & Puck - Holiday
DESCRIPTION:
LOCATION:
URL:
END:VEVENT
END:VCALENDAR