BEGIN:VCALENDAR
VERSION:2.0
PRODID:-//DP Pro Event Calendar//3.0.5//EN
BEGIN:VEVENT
UID:426a4a5d-2f43-4cd8-8b73-35bba8064aac
DTSTART;TZID=America/Chicago:20251228T140000
DTEND;TZID=America/Chicago:20251228T153000
DTSTAMP:20251124T165529Z
SUMMARY:Caleb & Christian Wood Birthday
DESCRIPTION:Standard Party\r \n party Room 3-4:30p
LOCATION:
URL:
END:VEVENT
END:VCALENDAR