BEGIN:VCALENDAR
VERSION:2.0
PRODID:-//DP Pro Event Calendar//3.0.5//EN
BEGIN:VEVENT
UID:860a07fd-6742-461d-88fe-f0acbb024602
DTSTART;TZID=America/Chicago:20251226T180000
DTEND;TZID=America/Chicago:20251226T193000
DTSTAMP:20251124T162414Z
SUMMARY:Claire Eiland Birthday
DESCRIPTION:Basic Party\r \n Party Room 6:30-8:30p
LOCATION:
URL:
END:VEVENT
END:VCALENDAR