BEGIN:VCALENDAR
VERSION:2.0
PRODID:-//DP Pro Event Calendar//3.0.5//EN
BEGIN:VEVENT
UID:66da71b8-39d3-4524-80dd-592a3fc7451b
DTSTART;TZID=America/Chicago:20251224T103000
DTEND;TZID=America/Chicago:20251224T114500
DTSTAMP:20251201T161048Z
SUMMARY:Stick & Puck
DESCRIPTION:
LOCATION:
URL:
END:VEVENT
END:VCALENDAR