BEGIN:VCALENDAR
VERSION:2.0
PRODID:-//DP Pro Event Calendar//3.0.5//EN
BEGIN:VEVENT
UID:fa8ba2a0-11e4-4918-8fc9-210ce87b679a
DTSTART;TZID=America/Chicago:20251224T080000
DTEND;TZID=America/Chicago:20251224T101500
DTSTAMP:20251201T154750Z
SUMMARY:Menace Hockey - Xmas Eve Skate
DESCRIPTION:
LOCATION:
URL:
END:VEVENT
END:VCALENDAR