BEGIN:VCALENDAR
VERSION:2.0
PRODID:-//DP Pro Event Calendar//3.0.5//EN
BEGIN:VEVENT
UID:37f2100e-0987-4e09-a9fd-24e47766134e
DTSTART;TZID=America/Chicago:20251222T130000
DTEND;TZID=America/Chicago:20251222T150000
DTSTAMP:20251201T160436Z
SUMMARY:Dasha Salkovskiai Birthday
DESCRIPTION:Basic Party\r \n Party Room 3-4pm
LOCATION:
URL:
END:VEVENT
END:VCALENDAR