BEGIN:VCALENDAR
VERSION:2.0
PRODID:-//DP Pro Event Calendar//3.0.5//EN
BEGIN:VEVENT
UID:38afdf7d-025f-46fe-9ace-e908feeef93d
DTSTART;TZID=America/Chicago:20251221T154500
DTEND;TZID=America/Chicago:20251221T164500
DTSTAMP:20251120T174712Z
SUMMARY:Rudy Bharadwaj VIP Birthday
DESCRIPTION:Party Room 1:45-3:45p\r \n Skating 3:45-4:45p
LOCATION:
URL:
END:VEVENT
END:VCALENDAR