BEGIN:VCALENDAR
VERSION:2.0
PRODID:-//DP Pro Event Calendar//3.0.5//EN
BEGIN:VEVENT
UID:3a301b26-04c1-4cbe-b02e-47f1ac276a46
DTSTART;TZID=America/Chicago:20251219T150000
DTEND;TZID=America/Chicago:20251219T220000
DTSTAMP:20251124T131112Z
SUMMARY:Omaha North Party Room
DESCRIPTION:
LOCATION:
URL:
END:VEVENT
END:VCALENDAR