BEGIN:VCALENDAR
VERSION:2.0
PRODID:-//DP Pro Event Calendar//3.0.5//EN
BEGIN:VEVENT
UID:5c974cca-4784-49c1-acf7-017b98f05dd9
DTSTART;TZID=America/Chicago:20251217T120000
DTEND;TZID=America/Chicago:20251217T150000
DTSTAMP:20251201T160017Z
SUMMARY:Public Skate - Holiday Skating 2025
DESCRIPTION:
LOCATION:
URL:
END:VEVENT
END:VCALENDAR