BEGIN:VCALENDAR
VERSION:2.0
PRODID:-//DP Pro Event Calendar//3.0.5//EN
BEGIN:VEVENT
UID:b23b36fa-7c1c-4a1a-a7ff-0723c42d7d68
DTSTART;TZID=America/Chicago:20251213T124500
DTEND;TZID=America/Chicago:20251213T141500
DTSTAMP:20251106T114724Z
SUMMARY:Scarlett Cunningham Birthday
DESCRIPTION:Basic Party\r \n Party Room 2:15-3:15p
LOCATION:
URL:
END:VEVENT
END:VCALENDAR