BEGIN:VCALENDAR
VERSION:2.0
PRODID:-//DP Pro Event Calendar//3.0.5//EN
BEGIN:VEVENT
UID:2acb0684-cf32-4152-9d14-1f9ecd81cb8d
DTSTART;TZID=America/Chicago:20251207T140000
DTEND;TZID=America/Chicago:20251207T153000
DTSTAMP:20251124T115008Z
SUMMARY:Miles Trovato Birthday
DESCRIPTION:Basic Party\r \n Party Room 1-2p
LOCATION:
URL:
END:VEVENT
END:VCALENDAR