BEGIN:VCALENDAR
VERSION:2.0
PRODID:-//DP Pro Event Calendar//3.0.5//EN
BEGIN:VEVENT
UID:88fb74c4-08be-4908-b838-f0567ce3699f
DTSTART;TZID=America/Chicago;VALUE=DATE:20251127
DTEND;TZID=America/Chicago;VALUE=DATE:20251128
DTSTAMP:20251118T174051Z
SUMMARY:CLOSED - THANKSGIVING
DESCRIPTION:
LOCATION:
URL:
END:VEVENT
END:VCALENDAR