BEGIN:VCALENDAR
VERSION:2.0
PRODID:-//DP Pro Event Calendar//3.0.5//EN
BEGIN:VEVENT
UID:f39bc8ef-5deb-4ba1-9d29-5d0d8ff874d3
DTSTART;TZID=America/Chicago:20251125T100000
DTEND;TZID=America/Chicago:20251125T110000
DTSTAMP:20251120T173722Z
SUMMARY:Fire Skate
DESCRIPTION:
LOCATION:
URL:
END:VEVENT
END:VCALENDAR