BEGIN:VCALENDAR
VERSION:2.0
PRODID:-//DP Pro Event Calendar//3.0.5//EN
BEGIN:VEVENT
UID:8cf61bef-884c-40fb-9cf2-0202b90c484d
DTSTART;TZID=America/Chicago:20251123T170000
DTEND;TZID=America/Chicago:20251123T200000
DTSTAMP:20251118T105334Z
SUMMARY:Omaha Broomball Party Room
DESCRIPTION:
LOCATION:
URL:
END:VEVENT
END:VCALENDAR